BEGIN:VCALENDAR
VERSION:2.0
PRODID:-//Ichiban - ECPv6.15.3//NONSGML v1.0//EN
CALSCALE:GREGORIAN
METHOD:PUBLISH
X-WR-CALNAME:Ichiban
X-ORIGINAL-URL:https://www.ichibanuae.com
X-WR-CALDESC:Events for Ichiban
REFRESH-INTERVAL;VALUE=DURATION:PT1H
X-Robots-Tag:noindex
X-PUBLISHED-TTL:PT1H
BEGIN:VTIMEZONE
TZID:Asia/Dubai
BEGIN:STANDARD
TZOFFSETFROM:+0400
TZOFFSETTO:+0400
TZNAME:+04
DTSTART:20210101T000000
END:STANDARD
END:VTIMEZONE
BEGIN:VEVENT
DTSTART;VALUE=DATE:20210921
DTEND;VALUE=DATE:20210922
DTSTAMP:20260424T042102
CREATED:20210304T183507Z
LAST-MODIFIED:20220420T101814Z
UID:15527-1632182400-1632268799@www.ichibanuae.com
SUMMARY:Back to School
DESCRIPTION:The new term at Ichiban Nursery begins. Exact date TBC.
URL:https://www.ichibanuae.com/event/back-to-school-2/
LOCATION:Ichiban Nursery\, Villa 309\, 17th Street\, Khalifa city\, Abu Dhabi\, United Arab Emirates
END:VEVENT
BEGIN:VEVENT
DTSTART;VALUE=DATE:20210921
DTEND;VALUE=DATE:20210922
DTSTAMP:20260424T042102
CREATED:20210304T183507Z
LAST-MODIFIED:20220420T101810Z
UID:15325-1632182400-1632268799@www.ichibanuae.com
SUMMARY:Back to School
DESCRIPTION:The new term at Ichiban Nursery begins. Exact date TBC.
URL:https://www.ichibanuae.com/event/back-to-school/
LOCATION:Ichiban Nursery\, Villa 309\, 17th Street\, Khalifa city\, Abu Dhabi\, United Arab Emirates
END:VEVENT
BEGIN:VEVENT
DTSTART;VALUE=DATE:20210917
DTEND;VALUE=DATE:20210919
DTSTAMP:20260424T042102
CREATED:20210704T025350Z
LAST-MODIFIED:20210704T025350Z
UID:15514-1631851200-1631937599@www.ichibanuae.com
SUMMARY:Coffee morning with parents
DESCRIPTION:Attend an informal workshop on different aspects of early childhood and well-being. Held every 3rd week of each month.
URL:https://www.ichibanuae.com/event/coffee-morning-with-parents-2/
LOCATION:Ichiban Nursery\, Villa 309\, 17th Street\, Khalifa city\, Abu Dhabi\, United Arab Emirates
CATEGORIES:Meeting
ATTACH;FMTTYPE=image/jpeg:https://www.ichibanuae.com/wp-content/uploads/2018/01/2-1.jpg
END:VEVENT
BEGIN:VEVENT
DTSTART;VALUE=DATE:20210917
DTEND;VALUE=DATE:20210919
DTSTAMP:20260424T042102
CREATED:20210704T025350Z
LAST-MODIFIED:20210208T132816Z
UID:14725-1631851200-1631937599@www.ichibanuae.com
SUMMARY:Coffee morning with parents
DESCRIPTION:Attend an informal workshop on different aspects of early childhood and well-being. Held every 3rd week of each month.
URL:https://www.ichibanuae.com/event/coffee-morning-with-parents/
LOCATION:Ichiban Nursery\, Villa 309\, 17th Street\, Khalifa city\, Abu Dhabi\, United Arab Emirates
CATEGORIES:Meeting
ATTACH;FMTTYPE=image/jpeg:https://www.ichibanuae.com/wp-content/uploads/2018/01/2-1.jpg
END:VEVENT
BEGIN:VEVENT
DTSTART;VALUE=DATE:20210901
DTEND;VALUE=DATE:20210903
DTSTAMP:20260424T042102
CREATED:20210824T074114Z
LAST-MODIFIED:20220420T101805Z
UID:15579-1630454400-1630627199@www.ichibanuae.com
SUMMARY:Coffee Morning with Parents to Meet & Greet the Team
DESCRIPTION:
URL:https://www.ichibanuae.com/event/coffee-morning-with-parents-to-meet-greet-the-team/
LOCATION:Ichiban Nursery\, Villa 309\, 17th Street\, Khalifa city\, Abu Dhabi\, United Arab Emirates
CATEGORIES:Meeting
END:VEVENT
BEGIN:VEVENT
DTSTART;VALUE=DATE:20210624
DTEND;VALUE=DATE:20210625
DTSTAMP:20260424T042102
CREATED:20210304T183409Z
LAST-MODIFIED:20220420T101749Z
UID:15323-1624492800-1624579199@www.ichibanuae.com
SUMMARY:Ichiban Graduation Day
DESCRIPTION:
URL:https://www.ichibanuae.com/event/ichiban-graduation-day/
LOCATION:Ichiban Nursery\, Villa 309\, 17th Street\, Khalifa city\, Abu Dhabi\, United Arab Emirates
CATEGORIES:Nursery
END:VEVENT
BEGIN:VEVENT
DTSTART;VALUE=DATE:20210624
DTEND;VALUE=DATE:20210625
DTSTAMP:20260424T042102
CREATED:20210304T183409Z
LAST-MODIFIED:20220420T101753Z
UID:15526-1624492800-1624579199@www.ichibanuae.com
SUMMARY:Ichiban Graduation Day
DESCRIPTION:
URL:https://www.ichibanuae.com/event/ichiban-graduation-day-2/
LOCATION:Ichiban Nursery\, Villa 309\, 17th Street\, Khalifa city\, Abu Dhabi\, United Arab Emirates
CATEGORIES:Nursery
END:VEVENT
BEGIN:VEVENT
DTSTART;VALUE=DATE:20210621
DTEND;VALUE=DATE:20210622
DTSTAMP:20260424T042102
CREATED:20210304T183320Z
LAST-MODIFIED:20220420T102101Z
UID:15321-1624233600-1624319999@www.ichibanuae.com
SUMMARY:Father's Day
DESCRIPTION:
URL:https://www.ichibanuae.com/event/fathers-day/
LOCATION:Ichiban Nursery\, Villa 309\, 17th Street\, Khalifa city\, Abu Dhabi\, United Arab Emirates
END:VEVENT
BEGIN:VEVENT
DTSTART;VALUE=DATE:20210621
DTEND;VALUE=DATE:20210622
DTSTAMP:20260424T042102
CREATED:20210304T183320Z
LAST-MODIFIED:20220420T102105Z
UID:15525-1624233600-1624319999@www.ichibanuae.com
SUMMARY:Father's Day
DESCRIPTION:
URL:https://www.ichibanuae.com/event/fathers-day-2/
LOCATION:Ichiban Nursery\, Villa 309\, 17th Street\, Khalifa city\, Abu Dhabi\, United Arab Emirates
END:VEVENT
BEGIN:VEVENT
DTSTART;VALUE=DATE:20210520
DTEND;VALUE=DATE:20210521
DTSTAMP:20260424T042102
CREATED:20210304T183238Z
LAST-MODIFIED:20220420T102052Z
UID:15319-1621468800-1621555199@www.ichibanuae.com
SUMMARY:Splash Day
DESCRIPTION:The weather’s getting warmer so it’s time for fun in the sun and a splash in the pool!
URL:https://www.ichibanuae.com/event/splash-day/
LOCATION:Ichiban Nursery\, Villa 309\, 17th Street\, Khalifa city\, Abu Dhabi\, United Arab Emirates
CATEGORIES:Fun
END:VEVENT
BEGIN:VEVENT
DTSTART;VALUE=DATE:20210520
DTEND;VALUE=DATE:20210521
DTSTAMP:20260424T042102
CREATED:20210304T183238Z
LAST-MODIFIED:20220420T102056Z
UID:15524-1621468800-1621555199@www.ichibanuae.com
SUMMARY:Splash Day
DESCRIPTION:The weather’s getting warmer so it’s time for fun in the sun and a splash in the pool!
URL:https://www.ichibanuae.com/event/splash-day-2/
LOCATION:Ichiban Nursery\, Villa 309\, 17th Street\, Khalifa city\, Abu Dhabi\, United Arab Emirates
CATEGORIES:Fun
END:VEVENT
BEGIN:VEVENT
DTSTART;VALUE=DATE:20210512
DTEND;VALUE=DATE:20210513
DTSTAMP:20260424T042102
CREATED:20210304T183005Z
LAST-MODIFIED:20220420T102045Z
UID:15523-1620777600-1620863999@www.ichibanuae.com
SUMMARY:Eid al Fitr
DESCRIPTION:
URL:https://www.ichibanuae.com/event/eid-al-fitr-2/
LOCATION:Ichiban Nursery\, Villa 309\, 17th Street\, Khalifa city\, Abu Dhabi\, United Arab Emirates
CATEGORIES:Holiday
END:VEVENT
BEGIN:VEVENT
DTSTART;VALUE=DATE:20210512
DTEND;VALUE=DATE:20210513
DTSTAMP:20260424T042102
CREATED:20210304T183005Z
LAST-MODIFIED:20220420T102040Z
UID:15317-1620777600-1620863999@www.ichibanuae.com
SUMMARY:Eid al Fitr
DESCRIPTION:
URL:https://www.ichibanuae.com/event/eid-al-fitr/
LOCATION:Ichiban Nursery\, Villa 309\, 17th Street\, Khalifa city\, Abu Dhabi\, United Arab Emirates
CATEGORIES:Holiday
END:VEVENT
BEGIN:VEVENT
DTSTART;VALUE=DATE:20210412
DTEND;VALUE=DATE:20210513
DTSTAMP:20260424T042102
CREATED:20210304T182905Z
LAST-MODIFIED:20220420T102112Z
UID:15522-1618185600-1620863999@www.ichibanuae.com
SUMMARY:Ramadan
DESCRIPTION:Throughout the Holy Month of Ramadan\, we introduce the children to cultural concepts through arts & crafts\, reading and day-to-day interactions. Please note\, we will run reduced hours during Ramadan.
URL:https://www.ichibanuae.com/event/ramadan-2/
LOCATION:Ichiban Nursery\, Villa 309\, 17th Street\, Khalifa city\, Abu Dhabi\, United Arab Emirates
END:VEVENT
BEGIN:VEVENT
DTSTART;VALUE=DATE:20210412
DTEND;VALUE=DATE:20210513
DTSTAMP:20260424T042102
CREATED:20210304T182905Z
LAST-MODIFIED:20220420T102108Z
UID:15315-1618185600-1620863999@www.ichibanuae.com
SUMMARY:Ramadan
DESCRIPTION:Throughout the Holy Month of Ramadan\, we introduce the children to cultural concepts through arts & crafts\, reading and day-to-day interactions. Please note\, we will run reduced hours during Ramadan.
URL:https://www.ichibanuae.com/event/ramadan/
LOCATION:Ichiban Nursery\, Villa 309\, 17th Street\, Khalifa city\, Abu Dhabi\, United Arab Emirates
END:VEVENT
BEGIN:VEVENT
DTSTART;VALUE=DATE:20210411
DTEND;VALUE=DATE:20210412
DTSTAMP:20260424T042102
CREATED:20210304T185246Z
LAST-MODIFIED:20220420T102121Z
UID:15536-1618099200-1618185599@www.ichibanuae.com
SUMMARY:Summer Term Begins
DESCRIPTION:
URL:https://www.ichibanuae.com/event/summer-term-begins-2/
LOCATION:Ichiban Nursery\, Villa 309\, 17th Street\, Khalifa city\, Abu Dhabi\, United Arab Emirates
END:VEVENT
BEGIN:VEVENT
DTSTART;VALUE=DATE:20210411
DTEND;VALUE=DATE:20210412
DTSTAMP:20260424T042102
CREATED:20210304T185246Z
LAST-MODIFIED:20220420T102118Z
UID:15345-1618099200-1618185599@www.ichibanuae.com
SUMMARY:Summer Term Begins
DESCRIPTION:
URL:https://www.ichibanuae.com/event/summer-term-begins/
LOCATION:Ichiban Nursery\, Villa 309\, 17th Street\, Khalifa city\, Abu Dhabi\, United Arab Emirates
END:VEVENT
BEGIN:VEVENT
DTSTART;VALUE=DATE:20210404
DTEND;VALUE=DATE:20210405
DTSTAMP:20260424T042102
CREATED:20210304T182631Z
LAST-MODIFIED:20220420T102409Z
UID:15313-1617494400-1617580799@www.ichibanuae.com
SUMMARY:Easter Sunday
DESCRIPTION:
URL:https://www.ichibanuae.com/event/easter-sunday/
LOCATION:Ichiban Nursery\, Villa 309\, 17th Street\, Khalifa city\, Abu Dhabi\, United Arab Emirates
CATEGORIES:Holiday
END:VEVENT
BEGIN:VEVENT
DTSTART;VALUE=DATE:20210404
DTEND;VALUE=DATE:20210405
DTSTAMP:20260424T042102
CREATED:20210304T182631Z
LAST-MODIFIED:20220420T102413Z
UID:15521-1617494400-1617580799@www.ichibanuae.com
SUMMARY:Easter Sunday
DESCRIPTION:
URL:https://www.ichibanuae.com/event/easter-sunday-2/
LOCATION:Ichiban Nursery\, Villa 309\, 17th Street\, Khalifa city\, Abu Dhabi\, United Arab Emirates
CATEGORIES:Holiday
END:VEVENT
BEGIN:VEVENT
DTSTART;VALUE=DATE:20210328
DTEND;VALUE=DATE:20210409
DTSTAMP:20260424T042102
CREATED:20210304T182451Z
LAST-MODIFIED:20220420T102401Z
UID:15311-1616889600-1617926399@www.ichibanuae.com
SUMMARY:Ichiban Spring Camp
DESCRIPTION:More details to follow.
URL:https://www.ichibanuae.com/event/ichiban-spring-camp/
LOCATION:Ichiban Nursery\, Villa 309\, 17th Street\, Khalifa city\, Abu Dhabi\, United Arab Emirates
CATEGORIES:Fun
END:VEVENT
BEGIN:VEVENT
DTSTART;VALUE=DATE:20210328
DTEND;VALUE=DATE:20210409
DTSTAMP:20260424T042102
CREATED:20210304T182451Z
LAST-MODIFIED:20220420T102405Z
UID:15520-1616889600-1617926399@www.ichibanuae.com
SUMMARY:Ichiban Spring Camp
DESCRIPTION:More details to follow.
URL:https://www.ichibanuae.com/event/ichiban-spring-camp-2/
LOCATION:Ichiban Nursery\, Villa 309\, 17th Street\, Khalifa city\, Abu Dhabi\, United Arab Emirates
CATEGORIES:Fun
END:VEVENT
BEGIN:VEVENT
DTSTART;VALUE=DATE:20210325
DTEND;VALUE=DATE:20210411
DTSTAMP:20260424T042102
CREATED:20210304T185155Z
LAST-MODIFIED:20220420T102337Z
UID:15535-1616630400-1618099199@www.ichibanuae.com
SUMMARY:Spring Break
DESCRIPTION:The nursery will be closed for the Spring Break. Summer Term will begin on Sunday\, 11 March 2021.
URL:https://www.ichibanuae.com/event/spring-break-2/
LOCATION:Ichiban Nursery\, Villa 309\, 17th Street\, Khalifa city\, Abu Dhabi\, United Arab Emirates
CATEGORIES:Holiday
END:VEVENT
BEGIN:VEVENT
DTSTART;VALUE=DATE:20210325
DTEND;VALUE=DATE:20210411
DTSTAMP:20260424T042102
CREATED:20210304T185155Z
LAST-MODIFIED:20220420T102332Z
UID:15342-1616630400-1618099199@www.ichibanuae.com
SUMMARY:Spring Break
DESCRIPTION:The nursery will be closed for the Spring Break. Summer Term will begin on Sunday\, 11 March 2021.
URL:https://www.ichibanuae.com/event/spring-break/
LOCATION:Ichiban Nursery\, Villa 309\, 17th Street\, Khalifa city\, Abu Dhabi\, United Arab Emirates
CATEGORIES:Holiday
END:VEVENT
BEGIN:VEVENT
DTSTART;VALUE=DATE:20210321
DTEND;VALUE=DATE:20210322
DTSTAMP:20260424T042102
CREATED:20210304T182338Z
LAST-MODIFIED:20220420T102351Z
UID:15309-1616284800-1616371199@www.ichibanuae.com
SUMMARY:Mother's Day
DESCRIPTION:A day to appreciate all the hard-working mums.
URL:https://www.ichibanuae.com/event/mothers-day/
LOCATION:Ichiban Nursery\, Villa 309\, 17th Street\, Khalifa city\, Abu Dhabi\, United Arab Emirates
CATEGORIES:Fun
END:VEVENT
BEGIN:VEVENT
DTSTART;VALUE=DATE:20210321
DTEND;VALUE=DATE:20210322
DTSTAMP:20260424T042102
CREATED:20210304T182338Z
LAST-MODIFIED:20220420T102356Z
UID:15519-1616284800-1616371199@www.ichibanuae.com
SUMMARY:Mother's Day
DESCRIPTION:A day to appreciate all the hard-working mums.
URL:https://www.ichibanuae.com/event/mothers-day-2/
LOCATION:Ichiban Nursery\, Villa 309\, 17th Street\, Khalifa city\, Abu Dhabi\, United Arab Emirates
CATEGORIES:Fun
END:VEVENT
BEGIN:VEVENT
DTSTART;VALUE=DATE:20210316
DTEND;VALUE=DATE:20210317
DTSTAMP:20260424T042102
CREATED:20210304T182130Z
LAST-MODIFIED:20220420T102342Z
UID:15307-1615852800-1615939199@www.ichibanuae.com
SUMMARY:Sports Day
DESCRIPTION:The Ichiban Nursery Sports Day is a chance for the children to bring out their competitive\, energetic side\, and to build on teamwork across sports stations and fun activities.
URL:https://www.ichibanuae.com/event/sports-day/
LOCATION:Ichiban Nursery\, Villa 309\, 17th Street\, Khalifa city\, Abu Dhabi\, United Arab Emirates
CATEGORIES:Fun
ATTACH;FMTTYPE=image/png:https://www.ichibanuae.com/wp-content/uploads/2021/03/Sports-day-01-8.png
END:VEVENT
BEGIN:VEVENT
DTSTART;VALUE=DATE:20210316
DTEND;VALUE=DATE:20210317
DTSTAMP:20260424T042102
CREATED:20210304T182130Z
LAST-MODIFIED:20220420T102346Z
UID:15518-1615852800-1615939199@www.ichibanuae.com
SUMMARY:Sports Day
DESCRIPTION:The Ichiban Nursery Sports Day is a chance for the children to bring out their competitive\, energetic side\, and to build on teamwork across sports stations and fun activities.
URL:https://www.ichibanuae.com/event/sports-day-2/
LOCATION:Ichiban Nursery\, Villa 309\, 17th Street\, Khalifa city\, Abu Dhabi\, United Arab Emirates
CATEGORIES:Fun
ATTACH;FMTTYPE=image/png:https://www.ichibanuae.com/wp-content/uploads/2021/03/Sports-day-01-8.png
END:VEVENT
BEGIN:VEVENT
DTSTART;VALUE=DATE:20210311
DTEND;VALUE=DATE:20210312
DTSTAMP:20260424T042102
CREATED:20210304T181751Z
LAST-MODIFIED:20220420T102558Z
UID:15305-1615420800-1615507199@www.ichibanuae.com
SUMMARY:Teddy Bears Picnic
DESCRIPTION:Our annual Teddy Bears Picnic gives every child the opportunity to bring their favourite stuffed toy along to enjoy healthy outdoor snacks and fun.
URL:https://www.ichibanuae.com/event/teddy-bears-picnic/
LOCATION:Ichiban Nursery\, Villa 309\, 17th Street\, Khalifa city\, Abu Dhabi\, United Arab Emirates
END:VEVENT
BEGIN:VEVENT
DTSTART;VALUE=DATE:20210311
DTEND;VALUE=DATE:20210312
DTSTAMP:20260424T042102
CREATED:20210304T181751Z
LAST-MODIFIED:20220420T102602Z
UID:15517-1615420800-1615507199@www.ichibanuae.com
SUMMARY:Teddy Bears Picnic
DESCRIPTION:Our annual Teddy Bears Picnic gives every child the opportunity to bring their favourite stuffed toy along to enjoy healthy outdoor snacks and fun.
URL:https://www.ichibanuae.com/event/teddy-bears-picnic-2/
LOCATION:Ichiban Nursery\, Villa 309\, 17th Street\, Khalifa city\, Abu Dhabi\, United Arab Emirates
END:VEVENT
BEGIN:VEVENT
DTSTART;VALUE=DATE:20210228
DTEND;VALUE=DATE:20210301
DTSTAMP:20260424T042102
CREATED:20210208T133128Z
LAST-MODIFIED:20220420T102607Z
UID:15263-1614470400-1614556799@www.ichibanuae.com
SUMMARY:Stay & Play
DESCRIPTION:These sessions give a chance to see what your child is learning and an opportunity to get involved\, as well as to meet other parents and teaching staff.
URL:https://www.ichibanuae.com/event/stay-play-2/
LOCATION:Ichiban Nursery\, Villa 309\, 17th Street\, Khalifa city\, Abu Dhabi\, United Arab Emirates
CATEGORIES:Fun,Nursery
ATTACH;FMTTYPE=image/jpeg:https://www.ichibanuae.com/wp-content/uploads/2018/07/30B0369-1-1.jpg
ORGANIZER;CN="Nick Sims":MAILTO:sims@example.com
END:VEVENT
END:VCALENDAR