BEGIN:VCALENDAR
VERSION:2.0
PRODID:-//Ichiban - ECPv6.15.3//NONSGML v1.0//EN
CALSCALE:GREGORIAN
METHOD:PUBLISH
X-WR-CALNAME:Ichiban
X-ORIGINAL-URL:https://www.ichibanuae.com
X-WR-CALDESC:Events for Ichiban
REFRESH-INTERVAL;VALUE=DURATION:PT1H
X-Robots-Tag:noindex
X-PUBLISHED-TTL:PT1H
BEGIN:VTIMEZONE
TZID:Asia/Dubai
BEGIN:STANDARD
TZOFFSETFROM:+0400
TZOFFSETTO:+0400
TZNAME:+04
DTSTART:20210101T000000
END:STANDARD
END:VTIMEZONE
BEGIN:VEVENT
DTSTART;VALUE=DATE:20240101
DTEND;VALUE=DATE:20240102
DTSTAMP:20260424T010404
CREATED:20230824T043053Z
LAST-MODIFIED:20230824T043053Z
UID:16259-1704067200-1704153599@www.ichibanuae.com
SUMMARY:New Year [Nursery Closed]
DESCRIPTION:
URL:https://www.ichibanuae.com/event/new-year-nursery-closed/
LOCATION:Ichiban Nursery\, Villa 309\, 17th Street\, Khalifa city\, Abu Dhabi\, United Arab Emirates
CATEGORIES:Holiday
END:VEVENT
BEGIN:VEVENT
DTSTART;VALUE=DATE:20231201
DTEND;VALUE=DATE:20231204
DTSTAMP:20260424T010404
CREATED:20230824T042820Z
LAST-MODIFIED:20230824T042820Z
UID:16251-1701388800-1701647999@www.ichibanuae.com
SUMMARY:Nursery Closed - National Day
DESCRIPTION:
URL:https://www.ichibanuae.com/event/nursery-closed-national-day/
LOCATION:Ichiban Nursery\, Villa 309\, 17th Street\, Khalifa city\, Abu Dhabi\, United Arab Emirates
CATEGORIES:Holiday
END:VEVENT
BEGIN:VEVENT
DTSTART;VALUE=DATE:20230929
DTEND;VALUE=DATE:20230930
DTSTAMP:20260424T010404
CREATED:20230824T033852Z
LAST-MODIFIED:20230824T034015Z
UID:16231-1695945600-1696031999@www.ichibanuae.com
SUMMARY:Nursery Closed - Prophet Mohammed's (PBUH) Birthday
DESCRIPTION:
URL:https://www.ichibanuae.com/event/nursery-closed-prophet-mohammeds-pbuh-birthday/
LOCATION:Ichiban Nursery\, Villa 309\, 17th Street\, Khalifa city\, Abu Dhabi\, United Arab Emirates
CATEGORIES:Holiday
END:VEVENT
BEGIN:VEVENT
DTSTART;VALUE=DATE:20230325
DTEND;VALUE=DATE:20230417
DTSTAMP:20260424T010404
CREATED:20230314T065238Z
LAST-MODIFIED:20230314T065238Z
UID:15800-1679702400-1681689599@www.ichibanuae.com
SUMMARY:Spring Break
DESCRIPTION:
URL:https://www.ichibanuae.com/event/spring-break-3/
CATEGORIES:Holiday
END:VEVENT
BEGIN:VEVENT
DTSTART;TZID=Asia/Dubai:20230322T080000
DTEND;TZID=Asia/Dubai:20230323T150000
DTSTAMP:20260424T010404
CREATED:20230314T065108Z
LAST-MODIFIED:20230314T065129Z
UID:15798-1679472000-1679583600@www.ichibanuae.com
SUMMARY:Ramadan
DESCRIPTION:
URL:https://www.ichibanuae.com/event/ramadan-3/
CATEGORIES:Holiday
END:VEVENT
BEGIN:VEVENT
DTSTART;VALUE=DATE:20230316
DTEND;VALUE=DATE:20230317
DTSTAMP:20260424T010404
CREATED:20230314T064853Z
LAST-MODIFIED:20230314T064853Z
UID:15795-1678924800-1679011199@www.ichibanuae.com
SUMMARY:International Day
DESCRIPTION:
URL:https://www.ichibanuae.com/event/international-day/
CATEGORIES:Holiday
END:VEVENT
BEGIN:VEVENT
DTSTART;VALUE=DATE:20220101
DTEND;VALUE=DATE:20220102
DTSTAMP:20260424T010404
CREATED:20210304T184113Z
LAST-MODIFIED:20220420T101433Z
UID:15339-1640995200-1641081599@www.ichibanuae.com
SUMMARY:New Year's Day
DESCRIPTION:
URL:https://www.ichibanuae.com/event/new-years-day/
LOCATION:Ichiban Nursery\, Villa 309\, 17th Street\, Khalifa city\, Abu Dhabi\, United Arab Emirates
CATEGORIES:Holiday
END:VEVENT
BEGIN:VEVENT
DTSTART;VALUE=DATE:20220101
DTEND;VALUE=DATE:20220102
DTSTAMP:20260424T010404
CREATED:20210304T184113Z
LAST-MODIFIED:20220420T101437Z
UID:15534-1640995200-1641081599@www.ichibanuae.com
SUMMARY:New Year's Day
DESCRIPTION:
URL:https://www.ichibanuae.com/event/new-years-day-2/
LOCATION:Ichiban Nursery\, Villa 309\, 17th Street\, Khalifa city\, Abu Dhabi\, United Arab Emirates
CATEGORIES:Holiday
END:VEVENT
BEGIN:VEVENT
DTSTART;VALUE=DATE:20211225
DTEND;VALUE=DATE:20211226
DTSTAMP:20260424T010404
CREATED:20210304T184025Z
LAST-MODIFIED:20220420T101442Z
UID:15337-1640390400-1640476799@www.ichibanuae.com
SUMMARY:Christmas Day
DESCRIPTION:
URL:https://www.ichibanuae.com/event/christmas-day/
LOCATION:Ichiban Nursery\, Villa 309\, 17th Street\, Khalifa city\, Abu Dhabi\, United Arab Emirates
CATEGORIES:Holiday
END:VEVENT
BEGIN:VEVENT
DTSTART;VALUE=DATE:20211225
DTEND;VALUE=DATE:20211226
DTSTAMP:20260424T010404
CREATED:20210304T184025Z
LAST-MODIFIED:20220420T101446Z
UID:15533-1640390400-1640476799@www.ichibanuae.com
SUMMARY:Christmas Day
DESCRIPTION:
URL:https://www.ichibanuae.com/event/christmas-day-2/
LOCATION:Ichiban Nursery\, Villa 309\, 17th Street\, Khalifa city\, Abu Dhabi\, United Arab Emirates
CATEGORIES:Holiday
END:VEVENT
BEGIN:VEVENT
DTSTART;VALUE=DATE:20211202
DTEND;VALUE=DATE:20211203
DTSTAMP:20260424T010404
CREATED:20210304T183955Z
LAST-MODIFIED:20220420T101423Z
UID:15335-1638403200-1638489599@www.ichibanuae.com
SUMMARY:UAE National Day
DESCRIPTION:Public holiday.
URL:https://www.ichibanuae.com/event/uae-national-day/
LOCATION:Ichiban Nursery\, Villa 309\, 17th Street\, Khalifa city\, Abu Dhabi\, United Arab Emirates
CATEGORIES:Holiday
END:VEVENT
BEGIN:VEVENT
DTSTART;VALUE=DATE:20211202
DTEND;VALUE=DATE:20211203
DTSTAMP:20260424T010404
CREATED:20210304T183955Z
LAST-MODIFIED:20220420T101428Z
UID:15532-1638403200-1638489599@www.ichibanuae.com
SUMMARY:UAE National Day
DESCRIPTION:Public holiday.
URL:https://www.ichibanuae.com/event/uae-national-day-2/
LOCATION:Ichiban Nursery\, Villa 309\, 17th Street\, Khalifa city\, Abu Dhabi\, United Arab Emirates
CATEGORIES:Holiday
END:VEVENT
BEGIN:VEVENT
DTSTART;VALUE=DATE:20211104
DTEND;VALUE=DATE:20211105
DTSTAMP:20260424T010404
CREATED:20210304T183758Z
LAST-MODIFIED:20220420T101306Z
UID:15331-1635984000-1636070399@www.ichibanuae.com
SUMMARY:Diwali
DESCRIPTION:The Festival of Lights – exact date TBC.
URL:https://www.ichibanuae.com/event/diwali/
LOCATION:Ichiban Nursery\, Villa 309\, 17th Street\, Khalifa city\, Abu Dhabi\, United Arab Emirates
CATEGORIES:Holiday
END:VEVENT
BEGIN:VEVENT
DTSTART;VALUE=DATE:20211104
DTEND;VALUE=DATE:20211105
DTSTAMP:20260424T010404
CREATED:20210304T183758Z
LAST-MODIFIED:20220420T101248Z
UID:15530-1635984000-1636070399@www.ichibanuae.com
SUMMARY:Diwali
DESCRIPTION:The Festival of Lights – exact date TBC.
URL:https://www.ichibanuae.com/event/diwali-2/
LOCATION:Ichiban Nursery\, Villa 309\, 17th Street\, Khalifa city\, Abu Dhabi\, United Arab Emirates
CATEGORIES:Holiday
END:VEVENT
BEGIN:VEVENT
DTSTART;VALUE=DATE:20211103
DTEND;VALUE=DATE:20211104
DTSTAMP:20260424T010404
CREATED:20210304T183623Z
LAST-MODIFIED:20220420T101819Z
UID:15329-1635897600-1635983999@www.ichibanuae.com
SUMMARY:Flag Day
DESCRIPTION:
URL:https://www.ichibanuae.com/event/flag-day/
LOCATION:Ichiban Nursery\, Villa 309\, 17th Street\, Khalifa city\, Abu Dhabi\, United Arab Emirates
CATEGORIES:Holiday
END:VEVENT
BEGIN:VEVENT
DTSTART;VALUE=DATE:20211103
DTEND;VALUE=DATE:20211104
DTSTAMP:20260424T010404
CREATED:20210304T183623Z
LAST-MODIFIED:20220420T101824Z
UID:15529-1635897600-1635983999@www.ichibanuae.com
SUMMARY:Flag Day
DESCRIPTION:
URL:https://www.ichibanuae.com/event/flag-day-2/
LOCATION:Ichiban Nursery\, Villa 309\, 17th Street\, Khalifa city\, Abu Dhabi\, United Arab Emirates
CATEGORIES:Holiday
END:VEVENT
BEGIN:VEVENT
DTSTART;VALUE=DATE:20210512
DTEND;VALUE=DATE:20210513
DTSTAMP:20260424T010404
CREATED:20210304T183005Z
LAST-MODIFIED:20220420T102040Z
UID:15317-1620777600-1620863999@www.ichibanuae.com
SUMMARY:Eid al Fitr
DESCRIPTION:
URL:https://www.ichibanuae.com/event/eid-al-fitr/
LOCATION:Ichiban Nursery\, Villa 309\, 17th Street\, Khalifa city\, Abu Dhabi\, United Arab Emirates
CATEGORIES:Holiday
END:VEVENT
BEGIN:VEVENT
DTSTART;VALUE=DATE:20210512
DTEND;VALUE=DATE:20210513
DTSTAMP:20260424T010404
CREATED:20210304T183005Z
LAST-MODIFIED:20220420T102045Z
UID:15523-1620777600-1620863999@www.ichibanuae.com
SUMMARY:Eid al Fitr
DESCRIPTION:
URL:https://www.ichibanuae.com/event/eid-al-fitr-2/
LOCATION:Ichiban Nursery\, Villa 309\, 17th Street\, Khalifa city\, Abu Dhabi\, United Arab Emirates
CATEGORIES:Holiday
END:VEVENT
BEGIN:VEVENT
DTSTART;VALUE=DATE:20210404
DTEND;VALUE=DATE:20210405
DTSTAMP:20260424T010404
CREATED:20210304T182631Z
LAST-MODIFIED:20220420T102409Z
UID:15313-1617494400-1617580799@www.ichibanuae.com
SUMMARY:Easter Sunday
DESCRIPTION:
URL:https://www.ichibanuae.com/event/easter-sunday/
LOCATION:Ichiban Nursery\, Villa 309\, 17th Street\, Khalifa city\, Abu Dhabi\, United Arab Emirates
CATEGORIES:Holiday
END:VEVENT
BEGIN:VEVENT
DTSTART;VALUE=DATE:20210404
DTEND;VALUE=DATE:20210405
DTSTAMP:20260424T010404
CREATED:20210304T182631Z
LAST-MODIFIED:20220420T102413Z
UID:15521-1617494400-1617580799@www.ichibanuae.com
SUMMARY:Easter Sunday
DESCRIPTION:
URL:https://www.ichibanuae.com/event/easter-sunday-2/
LOCATION:Ichiban Nursery\, Villa 309\, 17th Street\, Khalifa city\, Abu Dhabi\, United Arab Emirates
CATEGORIES:Holiday
END:VEVENT
BEGIN:VEVENT
DTSTART;VALUE=DATE:20210325
DTEND;VALUE=DATE:20210411
DTSTAMP:20260424T010404
CREATED:20210304T185155Z
LAST-MODIFIED:20220420T102332Z
UID:15342-1616630400-1618099199@www.ichibanuae.com
SUMMARY:Spring Break
DESCRIPTION:The nursery will be closed for the Spring Break. Summer Term will begin on Sunday\, 11 March 2021.
URL:https://www.ichibanuae.com/event/spring-break/
LOCATION:Ichiban Nursery\, Villa 309\, 17th Street\, Khalifa city\, Abu Dhabi\, United Arab Emirates
CATEGORIES:Holiday
END:VEVENT
BEGIN:VEVENT
DTSTART;VALUE=DATE:20210325
DTEND;VALUE=DATE:20210411
DTSTAMP:20260424T010404
CREATED:20210304T185155Z
LAST-MODIFIED:20220420T102337Z
UID:15535-1616630400-1618099199@www.ichibanuae.com
SUMMARY:Spring Break
DESCRIPTION:The nursery will be closed for the Spring Break. Summer Term will begin on Sunday\, 11 March 2021.
URL:https://www.ichibanuae.com/event/spring-break-2/
LOCATION:Ichiban Nursery\, Villa 309\, 17th Street\, Khalifa city\, Abu Dhabi\, United Arab Emirates
CATEGORIES:Holiday
END:VEVENT
END:VCALENDAR