BEGIN:VCALENDAR
VERSION:2.0
PRODID:-//Ichiban - ECPv6.15.3//NONSGML v1.0//EN
CALSCALE:GREGORIAN
METHOD:PUBLISH
X-WR-CALNAME:Ichiban
X-ORIGINAL-URL:https://www.ichibanuae.com
X-WR-CALDESC:Events for Ichiban
REFRESH-INTERVAL;VALUE=DURATION:PT1H
X-Robots-Tag:noindex
X-PUBLISHED-TTL:PT1H
BEGIN:VTIMEZONE
TZID:Asia/Dubai
BEGIN:STANDARD
TZOFFSETFROM:+0400
TZOFFSETTO:+0400
TZNAME:+04
DTSTART:20210101T000000
END:STANDARD
END:VTIMEZONE
BEGIN:VEVENT
DTSTART;VALUE=DATE:20240701
DTEND;VALUE=DATE:20240702
DTSTAMP:20260423T221239
CREATED:20230824T045631Z
LAST-MODIFIED:20230824T045631Z
UID:16303-1719792000-1719878399@www.ichibanuae.com
SUMMARY:Summer Camp
DESCRIPTION:
URL:https://www.ichibanuae.com/event/summer-camp/
LOCATION:Ichiban Nursery\, Villa 309\, 17th Street\, Khalifa city\, Abu Dhabi\, United Arab Emirates
CATEGORIES:Fun
END:VEVENT
BEGIN:VEVENT
DTSTART;VALUE=DATE:20240621
DTEND;VALUE=DATE:20240622
DTSTAMP:20260423T221239
CREATED:20230824T045414Z
LAST-MODIFIED:20230824T045414Z
UID:16299-1718928000-1719014399@www.ichibanuae.com
SUMMARY:Father's Day
DESCRIPTION:
URL:https://www.ichibanuae.com/event/fathers-day-3/
LOCATION:Ichiban Nursery\, Villa 309\, 17th Street\, Khalifa city\, Abu Dhabi\, United Arab Emirates
CATEGORIES:Fun
END:VEVENT
BEGIN:VEVENT
DTSTART;VALUE=DATE:20240606
DTEND;VALUE=DATE:20240607
DTSTAMP:20260423T221239
CREATED:20230824T045339Z
LAST-MODIFIED:20230824T045339Z
UID:16297-1717632000-1717718399@www.ichibanuae.com
SUMMARY:National Best Friend's Day
DESCRIPTION:
URL:https://www.ichibanuae.com/event/national-best-friends-day/
LOCATION:Ichiban Nursery\, Villa 309\, 17th Street\, Khalifa city\, Abu Dhabi\, United Arab Emirates
CATEGORIES:Fun
END:VEVENT
BEGIN:VEVENT
DTSTART;VALUE=DATE:20240522
DTEND;VALUE=DATE:20240523
DTSTAMP:20260423T221239
CREATED:20230824T045256Z
LAST-MODIFIED:20230824T045256Z
UID:16295-1716336000-1716422399@www.ichibanuae.com
SUMMARY:Pool Party
DESCRIPTION:
URL:https://www.ichibanuae.com/event/pool-party/
LOCATION:Ichiban Nursery\, Villa 309\, 17th Street\, Khalifa city\, Abu Dhabi\, United Arab Emirates
CATEGORIES:Fun
END:VEVENT
BEGIN:VEVENT
DTSTART;VALUE=DATE:20240516
DTEND;VALUE=DATE:20240517
DTSTAMP:20260423T221239
CREATED:20230824T045157Z
LAST-MODIFIED:20230824T045157Z
UID:16293-1715817600-1715903999@www.ichibanuae.com
SUMMARY:Dress-Up As A Sea Creature
DESCRIPTION:
URL:https://www.ichibanuae.com/event/dress-up-as-a-sea-creature/
LOCATION:Ichiban Nursery\, Villa 309\, 17th Street\, Khalifa city\, Abu Dhabi\, United Arab Emirates
CATEGORIES:Fun
END:VEVENT
BEGIN:VEVENT
DTSTART;VALUE=DATE:20240509
DTEND;VALUE=DATE:20240510
DTSTAMP:20260423T221239
CREATED:20230824T045112Z
LAST-MODIFIED:20230824T045112Z
UID:16291-1715212800-1715299199@www.ichibanuae.com
SUMMARY:International Nurse's Day
DESCRIPTION:
URL:https://www.ichibanuae.com/event/international-nurses-day/
LOCATION:Ichiban Nursery\, Villa 309\, 17th Street\, Khalifa city\, Abu Dhabi\, United Arab Emirates
CATEGORIES:Fun
END:VEVENT
BEGIN:VEVENT
DTSTART;VALUE=DATE:20240424
DTEND;VALUE=DATE:20240425
DTSTAMP:20260423T221239
CREATED:20230824T045025Z
LAST-MODIFIED:20230824T045025Z
UID:16289-1713916800-1714003199@www.ichibanuae.com
SUMMARY:Book Day Dress-Up
DESCRIPTION:
URL:https://www.ichibanuae.com/event/book-day-dress-up/
LOCATION:Ichiban Nursery\, Villa 309\, 17th Street\, Khalifa city\, Abu Dhabi\, United Arab Emirates
CATEGORIES:Fun
END:VEVENT
BEGIN:VEVENT
DTSTART;VALUE=DATE:20240423
DTEND;VALUE=DATE:20240424
DTSTAMP:20260423T221239
CREATED:20230824T044916Z
LAST-MODIFIED:20230824T044949Z
UID:16287-1713830400-1713916799@www.ichibanuae.com
SUMMARY:World Book Day
DESCRIPTION:
URL:https://www.ichibanuae.com/event/world-book-day/
LOCATION:Ichiban Nursery\, Villa 309\, 17th Street\, Khalifa city\, Abu Dhabi\, United Arab Emirates
CATEGORIES:Fun
END:VEVENT
BEGIN:VEVENT
DTSTART;VALUE=DATE:20240325
DTEND;VALUE=DATE:20240413
DTSTAMP:20260423T221239
CREATED:20230824T044559Z
LAST-MODIFIED:20230824T044559Z
UID:16281-1711324800-1712966399@www.ichibanuae.com
SUMMARY:Spring Camp
DESCRIPTION:
URL:https://www.ichibanuae.com/event/spring-camp/
LOCATION:Ichiban Nursery\, Villa 309\, 17th Street\, Khalifa city\, Abu Dhabi\, United Arab Emirates
CATEGORIES:Fun
END:VEVENT
BEGIN:VEVENT
DTSTART;VALUE=DATE:20240321
DTEND;VALUE=DATE:20240322
DTSTAMP:20260423T221239
CREATED:20230824T044334Z
LAST-MODIFIED:20230824T044334Z
UID:16277-1710979200-1711065599@www.ichibanuae.com
SUMMARY:Mother's Day
DESCRIPTION:
URL:https://www.ichibanuae.com/event/mothers-day-4/
LOCATION:Ichiban Nursery\, Villa 309\, 17th Street\, Khalifa city\, Abu Dhabi\, United Arab Emirates
CATEGORIES:Fun
END:VEVENT
BEGIN:VEVENT
DTSTART;VALUE=DATE:20240314
DTEND;VALUE=DATE:20240315
DTSTAMP:20260423T221239
CREATED:20230824T044250Z
LAST-MODIFIED:20230824T044250Z
UID:16275-1710374400-1710460799@www.ichibanuae.com
SUMMARY:Teddy Bear Picnic
DESCRIPTION:
URL:https://www.ichibanuae.com/event/teddy-bear-picnic/
LOCATION:Ichiban Nursery\, Villa 309\, 17th Street\, Khalifa city\, Abu Dhabi\, United Arab Emirates
CATEGORIES:Fun
END:VEVENT
BEGIN:VEVENT
DTSTART;VALUE=DATE:20240222
DTEND;VALUE=DATE:20240223
DTSTAMP:20260423T221239
CREATED:20230824T044102Z
LAST-MODIFIED:20230824T044111Z
UID:16271-1708560000-1708646399@www.ichibanuae.com
SUMMARY:International Day
DESCRIPTION:
URL:https://www.ichibanuae.com/event/international-day-2/
LOCATION:Ichiban Nursery\, Villa 309\, 17th Street\, Khalifa city\, Abu Dhabi\, United Arab Emirates
CATEGORIES:Fun
END:VEVENT
BEGIN:VEVENT
DTSTART;VALUE=DATE:20240214
DTEND;VALUE=DATE:20240215
DTSTAMP:20260423T221239
CREATED:20230824T043512Z
LAST-MODIFIED:20230824T043940Z
UID:16269-1707868800-1707955199@www.ichibanuae.com
SUMMARY:Friendship Day
DESCRIPTION:
URL:https://www.ichibanuae.com/event/friendship-day/
LOCATION:Ichiban Nursery\, Villa 309\, 17th Street\, Khalifa city\, Abu Dhabi\, United Arab Emirates
CATEGORIES:Fun
END:VEVENT
BEGIN:VEVENT
DTSTART;VALUE=DATE:20240208
DTEND;VALUE=DATE:20240209
DTSTAMP:20260423T221239
CREATED:20230824T043347Z
LAST-MODIFIED:20230824T043347Z
UID:16267-1707350400-1707436799@www.ichibanuae.com
SUMMARY:Sports Day
DESCRIPTION:
URL:https://www.ichibanuae.com/event/sports-day-3/
LOCATION:Ichiban Nursery\, Villa 309\, 17th Street\, Khalifa city\, Abu Dhabi\, United Arab Emirates
CATEGORIES:Fun
END:VEVENT
BEGIN:VEVENT
DTSTART;VALUE=DATE:20240125
DTEND;VALUE=DATE:20240126
DTSTAMP:20260423T221239
CREATED:20230824T043250Z
LAST-MODIFIED:20230824T043250Z
UID:16265-1706140800-1706227199@www.ichibanuae.com
SUMMARY:Scavenger Hunt
DESCRIPTION:
URL:https://www.ichibanuae.com/event/scavenger-hunt/
LOCATION:Ichiban Nursery\, Villa 309\, 17th Street\, Khalifa city\, Abu Dhabi\, United Arab Emirates
CATEGORIES:Fun
END:VEVENT
BEGIN:VEVENT
DTSTART;VALUE=DATE:20240118
DTEND;VALUE=DATE:20240119
DTSTAMP:20260423T221239
CREATED:20230824T043208Z
LAST-MODIFIED:20230824T043208Z
UID:16263-1705536000-1705622399@www.ichibanuae.com
SUMMARY:Chinese New Year
DESCRIPTION:
URL:https://www.ichibanuae.com/event/chinese-new-year/
LOCATION:Ichiban Nursery\, Villa 309\, 17th Street\, Khalifa city\, Abu Dhabi\, United Arab Emirates
CATEGORIES:Fun
END:VEVENT
BEGIN:VEVENT
DTSTART;VALUE=DATE:20231128
DTEND;VALUE=DATE:20231129
DTSTAMP:20260423T221239
CREATED:20230824T042719Z
LAST-MODIFIED:20230824T042719Z
UID:16249-1701129600-1701215999@www.ichibanuae.com
SUMMARY:National Day Celebration
DESCRIPTION:
URL:https://www.ichibanuae.com/event/national-day-celebration/
LOCATION:Ichiban Nursery\, Villa 309\, 17th Street\, Khalifa city\, Abu Dhabi\, United Arab Emirates
CATEGORIES:Fun
END:VEVENT
BEGIN:VEVENT
DTSTART;VALUE=DATE:20231113
DTEND;VALUE=DATE:20231114
DTSTAMP:20260423T221239
CREATED:20230824T042639Z
LAST-MODIFIED:20230824T042639Z
UID:16247-1699833600-1699919999@www.ichibanuae.com
SUMMARY:Odd Socks Day
DESCRIPTION:
URL:https://www.ichibanuae.com/event/odd-socks-day/
LOCATION:Ichiban Nursery\, Villa 309\, 17th Street\, Khalifa city\, Abu Dhabi\, United Arab Emirates
CATEGORIES:Fun
END:VEVENT
BEGIN:VEVENT
DTSTART;VALUE=DATE:20231103
DTEND;VALUE=DATE:20231104
DTSTAMP:20260423T221239
CREATED:20230824T042502Z
LAST-MODIFIED:20230824T042502Z
UID:16244-1698969600-1699055999@www.ichibanuae.com
SUMMARY:UAE Flag Day
DESCRIPTION:
URL:https://www.ichibanuae.com/event/uae-flag-day/
LOCATION:Ichiban Nursery\, Villa 309\, 17th Street\, Khalifa city\, Abu Dhabi\, United Arab Emirates
CATEGORIES:Fun
END:VEVENT
BEGIN:VEVENT
DTSTART;VALUE=DATE:20231026
DTEND;VALUE=DATE:20231027
DTSTAMP:20260423T221239
CREATED:20230824T042242Z
LAST-MODIFIED:20230824T042327Z
UID:16242-1698278400-1698364799@www.ichibanuae.com
SUMMARY:Fall Festival
DESCRIPTION:
URL:https://www.ichibanuae.com/event/fall-festival/
LOCATION:Ichiban Nursery\, Villa 309\, 17th Street\, Khalifa city\, Abu Dhabi\, United Arab Emirates
CATEGORIES:Fun
END:VEVENT
BEGIN:VEVENT
DTSTART;VALUE=DATE:20231019
DTEND;VALUE=DATE:20231020
DTSTAMP:20260423T221239
CREATED:20230824T041223Z
LAST-MODIFIED:20230824T041339Z
UID:16239-1697673600-1697759999@www.ichibanuae.com
SUMMARY:Pink Day
DESCRIPTION:
URL:https://www.ichibanuae.com/event/pink-day/
LOCATION:Ichiban Nursery\, Villa 309\, 17th Street\, Khalifa city\, Abu Dhabi\, United Arab Emirates
CATEGORIES:Fun
END:VEVENT
BEGIN:VEVENT
DTSTART;VALUE=DATE:20231012
DTEND;VALUE=DATE:20231013
DTSTAMP:20260423T221239
CREATED:20230824T041159Z
LAST-MODIFIED:20230824T041344Z
UID:16237-1697068800-1697155199@www.ichibanuae.com
SUMMARY:Crazy Hair Day
DESCRIPTION:
URL:https://www.ichibanuae.com/event/crazy-hair-day/
LOCATION:Ichiban Nursery\, Villa 309\, 17th Street\, Khalifa city\, Abu Dhabi\, United Arab Emirates
CATEGORIES:Fun
END:VEVENT
BEGIN:VEVENT
DTSTART;VALUE=DATE:20231005
DTEND;VALUE=DATE:20231006
DTSTAMP:20260423T221239
CREATED:20230824T041121Z
LAST-MODIFIED:20230824T041352Z
UID:16235-1696464000-1696550399@www.ichibanuae.com
SUMMARY:UAE World Teacher's Day
DESCRIPTION:
URL:https://www.ichibanuae.com/event/uae-world-teachers-day/
LOCATION:Ichiban Nursery\, Villa 309\, 17th Street\, Khalifa city\, Abu Dhabi\, United Arab Emirates
CATEGORIES:Fun
END:VEVENT
BEGIN:VEVENT
DTSTART;VALUE=DATE:20231004
DTEND;VALUE=DATE:20231005
DTSTAMP:20260423T221239
CREATED:20230824T034216Z
LAST-MODIFIED:20230824T041426Z
UID:16233-1696377600-1696463999@www.ichibanuae.com
SUMMARY:World Animal Day
DESCRIPTION:
URL:https://www.ichibanuae.com/event/world-animal-day/
LOCATION:Ichiban Nursery\, Villa 309\, 17th Street\, Khalifa city\, Abu Dhabi\, United Arab Emirates
CATEGORIES:Fun
END:VEVENT
BEGIN:VEVENT
DTSTART;VALUE=DATE:20230928
DTEND;VALUE=DATE:20230929
DTSTAMP:20260423T221239
CREATED:20230824T033701Z
LAST-MODIFIED:20230824T033754Z
UID:16227-1695859200-1695945599@www.ichibanuae.com
SUMMARY:Dress-up As A Disney Character
DESCRIPTION:
URL:https://www.ichibanuae.com/event/dress-up-as-a-disney-character/
LOCATION:Ichiban Nursery\, Villa 309\, 17th Street\, Khalifa city\, Abu Dhabi\, United Arab Emirates
CATEGORIES:Fun
END:VEVENT
BEGIN:VEVENT
DTSTART;VALUE=DATE:20230321
DTEND;VALUE=DATE:20230322
DTSTAMP:20260423T221239
CREATED:20230314T065012Z
LAST-MODIFIED:20230314T065012Z
UID:15797-1679356800-1679443199@www.ichibanuae.com
SUMMARY:Mother's Day
DESCRIPTION:
URL:https://www.ichibanuae.com/event/mothers-day-3/
CATEGORIES:Fun
END:VEVENT
BEGIN:VEVENT
DTSTART;VALUE=DATE:20211125
DTEND;VALUE=DATE:20211126
DTSTAMP:20260423T221239
CREATED:20210304T183902Z
LAST-MODIFIED:20220420T101454Z
UID:15531-1637798400-1637884799@www.ichibanuae.com
SUMMARY:Thanksgiving
DESCRIPTION:
URL:https://www.ichibanuae.com/event/thanksgiving-2/
LOCATION:Ichiban Nursery\, Villa 309\, 17th Street\, Khalifa city\, Abu Dhabi\, United Arab Emirates
CATEGORIES:Fun
END:VEVENT
BEGIN:VEVENT
DTSTART;VALUE=DATE:20211125
DTEND;VALUE=DATE:20211126
DTSTAMP:20260423T221239
CREATED:20210304T183902Z
LAST-MODIFIED:20220420T101450Z
UID:15333-1637798400-1637884799@www.ichibanuae.com
SUMMARY:Thanksgiving
DESCRIPTION:
URL:https://www.ichibanuae.com/event/thanksgiving/
LOCATION:Ichiban Nursery\, Villa 309\, 17th Street\, Khalifa city\, Abu Dhabi\, United Arab Emirates
CATEGORIES:Fun
END:VEVENT
BEGIN:VEVENT
DTSTART;VALUE=DATE:20211031
DTEND;VALUE=DATE:20211101
DTSTAMP:20260423T221239
CREATED:20210304T183539Z
LAST-MODIFIED:20220420T101744Z
UID:15528-1635638400-1635724799@www.ichibanuae.com
SUMMARY:Halloween
DESCRIPTION:
URL:https://www.ichibanuae.com/event/halloween-2/
LOCATION:Ichiban Nursery\, Villa 309\, 17th Street\, Khalifa city\, Abu Dhabi\, United Arab Emirates
CATEGORIES:Fun
END:VEVENT
BEGIN:VEVENT
DTSTART;VALUE=DATE:20211031
DTEND;VALUE=DATE:20211101
DTSTAMP:20260423T221239
CREATED:20210304T183539Z
LAST-MODIFIED:20220420T101740Z
UID:15327-1635638400-1635724799@www.ichibanuae.com
SUMMARY:Halloween
DESCRIPTION:
URL:https://www.ichibanuae.com/event/halloween/
LOCATION:Ichiban Nursery\, Villa 309\, 17th Street\, Khalifa city\, Abu Dhabi\, United Arab Emirates
CATEGORIES:Fun
END:VEVENT
END:VCALENDAR